BEGIN:VCALENDAR
VERSION:2.0
PRODID:-//Cmas Diving Center Italia - ECPv5.3.2.1//NONSGML v1.0//EN
CALSCALE:GREGORIAN
METHOD:PUBLISH
X-WR-CALNAME:Cmas Diving Center Italia
X-ORIGINAL-URL:https://login.cmasdivingcenter.org
X-WR-CALDESC:Eventi per Cmas Diving Center Italia
BEGIN:VTIMEZONE
TZID:Europe/Rome
BEGIN:DAYLIGHT
TZOFFSETFROM:+0100
TZOFFSETTO:+0200
TZNAME:CEST
DTSTART:20200329T010000
END:DAYLIGHT
BEGIN:STANDARD
TZOFFSETFROM:+0200
TZOFFSETTO:+0100
TZNAME:CET
DTSTART:20201025T010000
END:STANDARD
END:VTIMEZONE
BEGIN:VEVENT
DTSTART;TZID=Europe/Rome:20201201T080000
DTEND;TZID=Europe/Rome:20201231T170000
DTSTAMP:20260422T014444
CREATED:20201201T124021Z
LAST-MODIFIED:20201201T171315Z
UID:32822-1606809600-1609434000@login.cmasdivingcenter.org
SUMMARY:PRESENTAZIONE T-SHIRT STORICA
DESCRIPTION:
URL:https://login.cmasdivingcenter.org/event/32822/
ATTACH;FMTTYPE=image/jpeg:https://login.cmasdivingcenter.org/wp-content/uploads/2020/12/T_shirt_oldnew_colori.jpg
END:VEVENT
END:VCALENDAR